BEGIN:VCALENDAR
VERSION:2.0
PRODID:-//85.13.136.51//NONSGML kigkonsult.se iCalcreator 2.20//
CALSCALE:GREGORIAN
METHOD:PUBLISH
X-WR-TIMEZONE:Europe/Berlin
BEGIN:VEVENT
UID:event357@jungenarbeit.info
DTSTAMP:20260425T215542Z
CATEGORIES:DenkPLOSIV
DESCRIPTION:TikTok Trends im Blick\nKategorie: DenkPLOSIV\nICS-Link: https:
 //jungenarbeit.info/index.php?option=com_jem&view=event&id=357:tiktok-tren
 ds-im-blick\n
DTSTART;TZID=Europe/Berlin:20261015T090000
DTEND;TZID=Europe/Berlin:20261015T123000
LOCATION:Online
SUMMARY:TikTok Trends im Blick
URL:https://jungenarbeit.info/index.php?option=com_jem&view=event&id=357:ti
 ktok-trends-im-blick
END:VEVENT
END:VCALENDAR