BEGIN:VCALENDAR
VERSION:2.0
PRODID:-//85.13.136.51//NONSGML kigkonsult.se iCalcreator 2.20//
CALSCALE:GREGORIAN
METHOD:PUBLISH
X-WR-TIMEZONE:Europe/Berlin
BEGIN:VEVENT
UID:event174@jungenarbeit.info
DTSTAMP:20260421T093005Z
CATEGORIES:Vernetzungstreffen
DESCRIPTION:Arbeitskreis Jungenpädagogik im Kreis Stormarn\nKategorie: Vern
 etzungstreffen\nICS-Link: https://jungenarbeit.info/index.php?option=com_j
 em&view=event&id=174:arbeitskreis-jungenpaedagogik-im-kreis-stormarn\n
DTSTART;TZID=Europe/Berlin:20130812T170000
DTEND;TZID=Europe/Berlin:20130812T193000
LOCATION:Ganztagszentrum Bargteheide \,Am Markt 2 \,22941  Bargteheide \,Ge
 rmany
SUMMARY:Arbeitskreis Jungenpädagogik im Kreis Stormarn
URL:https://jungenarbeit.info/index.php?option=com_jem&view=event&id=174:ar
 beitskreis-jungenpaedagogik-im-kreis-stormarn
END:VEVENT
BEGIN:VEVENT
UID:event182@jungenarbeit.info
DTSTAMP:20260421T093005Z
CATEGORIES:Vernetzungstreffen
DESCRIPTION:Arbeitskreis Jungenpädagogik im Kreis Stormarn\nKategorie: Vern
 etzungstreffen\nICS-Link: https://jungenarbeit.info/index.php?option=com_j
 em&view=event&id=182:arbeitskreis-jungenpaedagogik-im-kreis-stormarn\n
DTSTART;TZID=Europe/Berlin:20130506T170000
DTEND;TZID=Europe/Berlin:20130506T193000
LOCATION:Ganztagszentrum Bargteheide \,Am Markt 2 \,22941  Bargteheide \,Ge
 rmany
SUMMARY:Arbeitskreis Jungenpädagogik im Kreis Stormarn
URL:https://jungenarbeit.info/index.php?option=com_jem&view=event&id=182:ar
 beitskreis-jungenpaedagogik-im-kreis-stormarn
END:VEVENT
BEGIN:VEVENT
UID:event110@jungenarbeit.info
DTSTAMP:20260421T093005Z
CATEGORIES:Vernetzungstreffen
DESCRIPTION:Arbeitskreis Jungenpädagogik im Kreis Stormarn\nKategorie: Vern
 etzungstreffen\nICS-Link: https://jungenarbeit.info/index.php?option=com_j
 em&view=event&id=110:arbeitskreis-jungenpaedagogik-im-kreis-stormarn\n
DTSTART;TZID=Europe/Berlin:20150223T180000
DTEND;TZID=Europe/Berlin:20150223T193000
LOCATION:Ganztagszentrum Bargteheide \,Am Markt 2 \,22941  Bargteheide \,Ge
 rmany
SUMMARY:Arbeitskreis Jungenpädagogik im Kreis Stormarn
URL:https://jungenarbeit.info/index.php?option=com_jem&view=event&id=110:ar
 beitskreis-jungenpaedagogik-im-kreis-stormarn
END:VEVENT
BEGIN:VEVENT
UID:event163@jungenarbeit.info
DTSTAMP:20260421T093005Z
CATEGORIES:Vernetzungstreffen
DESCRIPTION:Arbeitskreis Jungenpädagogik im Kreis Stormarn\nKategorie: Vern
 etzungstreffen\nICS-Link: https://jungenarbeit.info/index.php?option=com_j
 em&view=event&id=163:arbeitskreis-jungenpaedagogik-im-kreis-stormarn\n
DTSTART;TZID=Europe/Berlin:20131104T180000
DTEND;TZID=Europe/Berlin:20131104T193000
LOCATION:Ganztagszentrum Bargteheide \,Am Markt 2 \,22941  Bargteheide \,Ge
 rmany
SUMMARY:Arbeitskreis Jungenpädagogik im Kreis Stormarn
URL:https://jungenarbeit.info/index.php?option=com_jem&view=event&id=163:ar
 beitskreis-jungenpaedagogik-im-kreis-stormarn
END:VEVENT
BEGIN:VEVENT
UID:event196@jungenarbeit.info
DTSTAMP:20260421T093005Z
CATEGORIES:Vernetzungstreffen
DESCRIPTION:Arbeitskreis Jungenpädagogik im Kreis Stormarn\nKategorie: Vern
 etzungstreffen\nICS-Link: https://jungenarbeit.info/index.php?option=com_j
 em&view=event&id=196:arbeitskreis-jungenpaedagogik-im-kreis-stormarn\n
DTSTART;TZID=Europe/Berlin:20130204T180000
DTEND;TZID=Europe/Berlin:20130204T203000
LOCATION:Ganztagszentrum Bargteheide \,Am Markt 2 \,22941  Bargteheide \,Ge
 rmany
SUMMARY:Arbeitskreis Jungenpädagogik im Kreis Stormarn
URL:https://jungenarbeit.info/index.php?option=com_jem&view=event&id=196:ar
 beitskreis-jungenpaedagogik-im-kreis-stormarn
END:VEVENT
BEGIN:VEVENT
UID:event198@jungenarbeit.info
DTSTAMP:20260421T093005Z
CATEGORIES:Vernetzungstreffen
DESCRIPTION:Arbeitskreis Jungenpädagogik im Kreis Stormarn\nKategorie: Vern
 etzungstreffen\nICS-Link: https://jungenarbeit.info/index.php?option=com_j
 em&view=event&id=198:arbeitskreis-jungenpaedagogik-im-kreis-stormarn\n
DTSTART;TZID=Europe/Berlin:20121210T180000
DTEND;TZID=Europe/Berlin:20121210T203000
LOCATION:Ganztagszentrum Bargteheide \,Am Markt 2 \,22941  Bargteheide \,Ge
 rmany
SUMMARY:Arbeitskreis Jungenpädagogik im Kreis Stormarn
URL:https://jungenarbeit.info/index.php?option=com_jem&view=event&id=198:ar
 beitskreis-jungenpaedagogik-im-kreis-stormarn
END:VEVENT
END:VCALENDAR