BEGIN:VCALENDAR
VERSION:2.0
PRODID:-//85.13.136.51//NONSGML kigkonsult.se iCalcreator 2.20//
CALSCALE:GREGORIAN
METHOD:PUBLISH
X-WR-TIMEZONE:Europe/Berlin
BEGIN:VEVENT
UID:event177@jungenarbeit.info
DTSTAMP:20260424T105847Z
CATEGORIES:Aktion mit Jungen
DESCRIPTION:Sommeraktion 2013: Jungenindianercamp bei Hamburg\nKategorie: A
 ktion mit Jungen\nICS-Link: https://jungenarbeit.info/index.php?option=com
 _jem&view=event&id=177:sommeraktion-2013-jungenindianercamp-bei-hamburg\n
DTSTART;VALUE=DATE:20130630
DTEND;VALUE=DATE:20130706
LOCATION:bitte bei den Veranstalter_innen erfragen
SUMMARY:Sommeraktion 2013: Jungenindianercamp bei Hamburg
URL:https://jungenarbeit.info/index.php?option=com_jem&view=event&id=177:so
 mmeraktion-2013-jungenindianercamp-bei-hamburg
END:VEVENT
BEGIN:VEVENT
UID:event137@jungenarbeit.info
DTSTAMP:20260424T105847Z
CATEGORIES:Fortbildung 
DESCRIPTION:Jungen und Sport(-unterricht)\nKategorie: Fortbildung \nICS-Lin
 k: https://jungenarbeit.info/index.php?option=com_jem&view=event&id=137:ju
 ngen-und-sport-unterricht\n
DTSTART;TZID=Europe/Berlin:20140510T100000
DTEND;TZID=Europe/Berlin:20140510T140000
LOCATION:bitte bei den Veranstalter_innen erfragen
SUMMARY:Jungen und Sport(-unterricht)
URL:https://jungenarbeit.info/index.php?option=com_jem&view=event&id=137:ju
 ngen-und-sport-unterricht
END:VEVENT
BEGIN:VEVENT
UID:event148@jungenarbeit.info
DTSTAMP:20260424T105847Z
CATEGORIES:Fortbildung 
DESCRIPTION:Schnuppertag Kampfesspiele mit Josef Riederle\nKategorie: Fortb
 ildung \nICS-Link: https://jungenarbeit.info/index.php?option=com_jem&view
 =event&id=148:schnuppertag-kampfesspiele-mit-josef-riederle\n
DTSTART;TZID=Europe/Berlin:20140215T100000
DTEND;TZID=Europe/Berlin:20140215T170000
LOCATION:bitte bei den Veranstalter_innen erfragen
SUMMARY:Schnuppertag Kampfesspiele mit Josef Riederle
URL:https://jungenarbeit.info/index.php?option=com_jem&view=event&id=148:sc
 hnuppertag-kampfesspiele-mit-josef-riederle
END:VEVENT
BEGIN:VEVENT
UID:event157@jungenarbeit.info
DTSTAMP:20260424T105847Z
CATEGORIES:Fachtagung
DESCRIPTION: 	  Fachkongress 'Männlichkeit im Wandel - Neue Wege für Jungs'
 \nKategorie: Fachtagung\nICS-Link: https://jungenarbeit.info/index.php?opt
 ion=com_jem&view=event&id=157:fachkongress-maennlichkeit-im-wandel-neue-we
 ge-fuer-jungs\n
DTSTART;TZID=Europe/Berlin:20131202T103000
DTEND;TZID=Europe/Berlin:20131202T153000
LOCATION:bitte bei den Veranstalter_innen erfragen
SUMMARY: 	  Fachkongress 'Männlichkeit im Wandel - Neue Wege für Jungs'
URL:https://jungenarbeit.info/index.php?option=com_jem&view=event&id=157:fa
 chkongress-maennlichkeit-im-wandel-neue-wege-fuer-jungs
END:VEVENT
BEGIN:VEVENT
UID:event155@jungenarbeit.info
DTSTAMP:20260424T105847Z
CATEGORIES:Fachtagung
DESCRIPTION:Fachkongress 'Männlichkeit im Wandel - Neue Wege für Jungs'\nKa
 tegorie: Fachtagung\nICS-Link: https://jungenarbeit.info/index.php?option=
 com_jem&view=event&id=155:fachkongress-maennlichkeit-im-wandel-neue-wege-f
 uer-jungs\n
DTSTART;TZID=Europe/Berlin:20131202T103000
DTEND;TZID=Europe/Berlin:20131202T153000
LOCATION:bitte bei den Veranstalter_innen erfragen
SUMMARY:Fachkongress 'Männlichkeit im Wandel - Neue Wege für Jungs'
URL:https://jungenarbeit.info/index.php?option=com_jem&view=event&id=155:fa
 chkongress-maennlichkeit-im-wandel-neue-wege-fuer-jungs
END:VEVENT
BEGIN:VEVENT
UID:event175@jungenarbeit.info
DTSTAMP:20260424T105847Z
CATEGORIES:Aktion mit Jungen
DESCRIPTION:Vater-Kind-Schatzsuchercamp auf dem Rittergut Barnstedt\nKatego
 rie: Aktion mit Jungen\nICS-Link: https://jungenarbeit.info/index.php?opti
 on=com_jem&view=event&id=175:vater-kind-schatzsuchercamp-auf-dem-rittergut
 -barnstedt\n
DTSTART;TZID=Europe/Berlin:20130802T140000
DTEND;TZID=Europe/Berlin:20130804T140000
LOCATION:bitte bei den Veranstalter_innen erfragen
SUMMARY:Vater-Kind-Schatzsuchercamp auf dem Rittergut Barnstedt
URL:https://jungenarbeit.info/index.php?option=com_jem&view=event&id=175:va
 ter-kind-schatzsuchercamp-auf-dem-rittergut-barnstedt
END:VEVENT
BEGIN:VEVENT
UID:event131@jungenarbeit.info
DTSTAMP:20260424T105847Z
CATEGORIES:Diskussionsveranstaltung
DESCRIPTION:Und was ist mit den Jungs? - Gleichstellung spielerisch erkunde
 n\nKategorie: Diskussionsveranstaltung\nICS-Link: https://jungenarbeit.inf
 o/index.php?option=com_jem&view=event&id=131:und-was-ist-mit-den-jungs-gle
 ichstellung-spielerisch-erkunden\n
DTSTART;TZID=Europe/Berlin:20140603T190000
DTEND;TZID=Europe/Berlin:20140603T210000
LOCATION:bitte bei den Veranstalter_innen erfragen
SUMMARY:Und was ist mit den Jungs? - Gleichstellung spielerisch erkunden
URL:https://jungenarbeit.info/index.php?option=com_jem&view=event&id=131:un
 d-was-ist-mit-den-jungs-gleichstellung-spielerisch-erkunden
END:VEVENT
END:VCALENDAR