BEGIN:VCALENDAR
VERSION:2.0
PRODID:-//85.13.136.51//NONSGML kigkonsult.se iCalcreator 2.20//
CALSCALE:GREGORIAN
METHOD:PUBLISH
X-WR-TIMEZONE:Europe/Berlin
BEGIN:VEVENT
UID:event145@jungenarbeit.info
DTSTAMP:20260422T111756Z
CATEGORIES:Diskussionsveranstaltung
DESCRIPTION:Väter erziehen anders!?\nKategorie: Diskussionsveranstaltung\nI
 CS-Link: https://jungenarbeit.info/index.php?option=com_jem&view=event&id=
 145:vaeter-erziehen-anders\n
DTSTART;TZID=Europe/Berlin:20140225T190000
DTEND;TZID=Europe/Berlin:20140225T210000
LOCATION:Rathaus Henstedt-Ulzburg\, Ratsaal 
SUMMARY:Väter erziehen anders!?
URL:https://jungenarbeit.info/index.php?option=com_jem&view=event&id=145:va
 eter-erziehen-anders
END:VEVENT
END:VCALENDAR