BEGIN:VCALENDAR
VERSION:2.0
PRODID:-//85.13.136.51//NONSGML kigkonsult.se iCalcreator 2.20//
CALSCALE:GREGORIAN
METHOD:PUBLISH
X-WR-TIMEZONE:Europe/Berlin
BEGIN:VEVENT
UID:event150@jungenarbeit.info
DTSTAMP:20260421T083435Z
CATEGORIES:Diskussionsveranstaltung
DESCRIPTION:Gleichstellung in Hamburg vorantreiben: Jetzt erst recht! - Wer
 kstattgespräch I\nKategorie: Diskussionsveranstaltung\nICS-Link: https://j
 ungenarbeit.info/index.php?option=com_jem&view=event&id=150:gleichstellung
 -in-hamburg-vorantreiben-jetzt-erst-recht-werkstattgespraech-i\n
DTSTART;TZID=Europe/Berlin:20140129T183000
DTEND;TZID=Europe/Berlin:20140129T203000
LOCATION:Rathaus Hamburg \,Rathausmarkt 1\,\,20095 Hamburg\,Germany
SUMMARY:Gleichstellung in Hamburg vorantreiben: Jetzt erst recht! - Werksta
 ttgespräch I
URL:https://jungenarbeit.info/index.php?option=com_jem&view=event&id=150:gl
 eichstellung-in-hamburg-vorantreiben-jetzt-erst-recht-werkstattgespraech-i
END:VEVENT
END:VCALENDAR