BEGIN:VCALENDAR
VERSION:2.0
PRODID:-//85.13.136.51//NONSGML kigkonsult.se iCalcreator 2.20//
CALSCALE:GREGORIAN
METHOD:PUBLISH
X-WR-TIMEZONE:Europe/Berlin
BEGIN:VEVENT
UID:event281@jungenarbeit.info
DTSTAMP:20260419T183313Z
CATEGORIES:Vernetzungstreffen
DESCRIPTION:AK Jungen*arbeit in Bremen\nKategorie: Vernetzungstreffen\nICS-
 Link: https://jungenarbeit.info/index.php?option=com_jem&view=event&id=281
 :ak-jungen-arbeit-in-bremen\n
DTSTART;TZID=Europe/Berlin:20200217T090000
DTEND;TZID=Europe/Berlin:20200217T123000
LOCATION:Jugendzentrum Findorff\,Neukirchstraße 23 a\,28215 Bremen
SUMMARY:AK Jungen*arbeit in Bremen
URL:https://jungenarbeit.info/index.php?option=com_jem&view=event&id=281:ak
 -jungen-arbeit-in-bremen
END:VEVENT
END:VCALENDAR